BEGIN:VCALENDAR
VERSION:2.0
PRODID:-//coro fior di monte - ECPv4.3.2//NONSGML v1.0//EN
CALSCALE:GREGORIAN
METHOD:PUBLISH
X-WR-CALNAME:coro fior di monte
X-ORIGINAL-URL:https://www.corofiordimonte.it
X-WR-CALDESC:Events for coro fior di monte
BEGIN:VEVENT
DTSTART;VALUE=DATE:20130615
DTEND;VALUE=DATE:20130615
DTSTAMP:20260419T174756
CREATED:20130420T154237Z
LAST-MODIFIED:20130420T154237Z
UID:1093-1371254400-1371340799@www.corofiordimonte.it
SUMMARY:4°Festival della coralità popolare bergamasca
DESCRIPTION:4° Festival della coralità popolare bergamasca
URL:https://www.corofiordimonte.it/concerto/4festival-della-coralita-popolare-bergamasca
LOCATION:Piazza Caduti Partigiani\, Italia
END:VEVENT
END:VCALENDAR