BEGIN:VCALENDAR
VERSION:2.0
PRODID:-//coro fior di monte - ECPv4.3.2//NONSGML v1.0//EN
CALSCALE:GREGORIAN
METHOD:PUBLISH
X-WR-CALNAME:coro fior di monte
X-ORIGINAL-URL:https://www.corofiordimonte.it
X-WR-CALDESC:Events for coro fior di monte
BEGIN:VEVENT
DTSTART;VALUE=DATE:20120707
DTEND;VALUE=DATE:20120707
DTSTAMP:20260423T063131
CREATED:20120423T204035Z
LAST-MODIFIED:20120604T222230Z
UID:149-1341619200-1341705599@www.corofiordimonte.it
SUMMARY:Concerto a Sedrina
DESCRIPTION:Festa degli Alpini a Sedrina
URL:https://www.corofiordimonte.it/concerto/concerto-2
LOCATION:Sedrina\, Italia
CATEGORIES:Concerti
END:VEVENT
END:VCALENDAR