BEGIN:VCALENDAR
VERSION:2.0
PRODID:-//coro fior di monte - ECPv4.3.2//NONSGML v1.0//EN
CALSCALE:GREGORIAN
METHOD:PUBLISH
X-WR-CALNAME:coro fior di monte
X-ORIGINAL-URL:https://www.corofiordimonte.it
X-WR-CALDESC:Events for coro fior di monte
BEGIN:VEVENT
DTSTART;TZID=UTC+0:20130519T143000
DTEND;TZID=UTC+0:20130519T163000
DTSTAMP:20260419T212240
CREATED:20130514T170119Z
LAST-MODIFIED:20130514T170119Z
UID:1107-1368973800-1368981000@www.corofiordimonte.it
SUMMARY:Concerto a Bergamo
DESCRIPTION:Esposizione delle opere del nostro Presidente Franco Travi
URL:https://www.corofiordimonte.it/concerto/concerto-a-bergamo-2
LOCATION:via Pignolo\, Bergamo\, Italia
END:VEVENT
END:VCALENDAR