BEGIN:VCALENDAR
VERSION:2.0
PRODID:-//coro fior di monte - ECPv4.3.2//NONSGML v1.0//EN
CALSCALE:GREGORIAN
METHOD:PUBLISH
X-WR-CALNAME:coro fior di monte
X-ORIGINAL-URL:https://www.corofiordimonte.it
X-WR-CALDESC:Events for coro fior di monte
BEGIN:VEVENT
DTSTART;TZID=UTC+0:20130607T204500
DTEND;TZID=UTC+0:20130607T224500
DTSTAMP:20260419T193927
CREATED:20130322T211627Z
LAST-MODIFIED:20130322T211627Z
UID:1050-1370637900-1370645100@www.corofiordimonte.it
SUMMARY:Concerto a Bergamo 
DESCRIPTION:Parrocchia Santa Croce Malpensata ore 20:45
URL:https://www.corofiordimonte.it/concerto/concerto-a-bergamo
LOCATION:Bergamo
CATEGORIES:Concerti
END:VEVENT
END:VCALENDAR