BEGIN:VCALENDAR
VERSION:2.0
PRODID:-//coro fior di monte - ECPv4.3.2//NONSGML v1.0//EN
CALSCALE:GREGORIAN
METHOD:PUBLISH
X-WR-CALNAME:coro fior di monte
X-ORIGINAL-URL:https://www.corofiordimonte.it
X-WR-CALDESC:Events for coro fior di monte
BEGIN:VEVENT
DTSTART;TZID=UTC+0:20130707T204500
DTEND;TZID=UTC+0:20130707T220000
DTSTAMP:20260419T162730
CREATED:20130620T132959Z
LAST-MODIFIED:20130620T133346Z
UID:1121-1373229900-1373234400@www.corofiordimonte.it
SUMMARY:Concerto a Grumello de' Zanchi
DESCRIPTION:Concerto organizzato dal comune di Zogno
URL:https://www.corofiordimonte.it/concerto/concerto-a-grumello-de-zanchi
LOCATION:Zogno\, Bergamo\, Italia
END:VEVENT
END:VCALENDAR