BEGIN:VCALENDAR
VERSION:2.0
PRODID:-//coro fior di monte - ECPv4.3.2//NONSGML v1.0//EN
CALSCALE:GREGORIAN
METHOD:PUBLISH
X-WR-CALNAME:coro fior di monte
X-ORIGINAL-URL:https://www.corofiordimonte.it
X-WR-CALDESC:Events for coro fior di monte
BEGIN:VEVENT
DTSTART;VALUE=DATE:20120811
DTEND;VALUE=DATE:20120811
DTSTAMP:20260423T030159
CREATED:20120423T204151Z
LAST-MODIFIED:20120604T222120Z
UID:152-1344643200-1344729599@www.corofiordimonte.it
SUMMARY:Concerto a Ornica
DESCRIPTION:Concerto a Ornica
URL:https://www.corofiordimonte.it/concerto/concerto-a-ornica
LOCATION:Ornica\, Italia
CATEGORIES:Concerti
END:VEVENT
END:VCALENDAR