BEGIN:VCALENDAR
VERSION:2.0
PRODID:-//coro fior di monte - ECPv4.3.2//NONSGML v1.0//EN
CALSCALE:GREGORIAN
METHOD:PUBLISH
X-WR-CALNAME:coro fior di monte
X-ORIGINAL-URL:https://www.corofiordimonte.it
X-WR-CALDESC:Events for coro fior di monte
BEGIN:VEVENT
DTSTART;TZID=UTC+0:20130105T203000
DTEND;TZID=UTC+0:20130105T223000
DTSTAMP:20260420T053513
CREATED:20121208T221504Z
LAST-MODIFIED:20121208T221504Z
UID:1004-1357417800-1357425000@www.corofiordimonte.it
SUMMARY:Concerto a Songavazzo
DESCRIPTION:Concerto a Songavazzo (valle Seriana)
URL:https://www.corofiordimonte.it/concerto/concerto-a-songavazzo
LOCATION:Songavazzo\, Italia
CATEGORIES:Concerti
END:VEVENT
END:VCALENDAR