BEGIN:VCALENDAR
VERSION:2.0
PRODID:-//coro fior di monte - ECPv4.3.2//NONSGML v1.0//EN
CALSCALE:GREGORIAN
METHOD:PUBLISH
X-WR-CALNAME:coro fior di monte
X-ORIGINAL-URL:https://www.corofiordimonte.it
X-WR-CALDESC:Events for coro fior di monte
BEGIN:VEVENT
DTSTART;TZID=UTC+0:20120612T080000
DTEND;TZID=UTC+0:20120619T170059
DTSTAMP:20260423T095915
CREATED:20120423T203920Z
LAST-MODIFIED:20120604T222344Z
UID:147-1339488000-1340125259@www.corofiordimonte.it
SUMMARY:Gita in Spagna
DESCRIPTION:La gita del coro in Spagna
URL:https://www.corofiordimonte.it/concerto/gita-in-spagna
CATEGORIES:Gita
END:VEVENT
END:VCALENDAR