BEGIN:VCALENDAR
VERSION:2.0
PRODID:-//coro fior di monte - ECPv4.3.2//NONSGML v1.0//EN
CALSCALE:GREGORIAN
METHOD:PUBLISH
X-WR-CALNAME:coro fior di monte
X-ORIGINAL-URL:https://www.corofiordimonte.it
X-WR-CALDESC:Events for coro fior di monte
BEGIN:VEVENT
DTSTART;VALUE=DATE:20120705
DTEND;VALUE=DATE:20120705
DTSTAMP:20260423T080217
CREATED:20120518T074416Z
LAST-MODIFIED:20120627T083604Z
UID:813-1341446400-1341532799@www.corofiordimonte.it
SUMMARY:Lenna Cultura
DESCRIPTION:Concerto a Lenna
URL:https://www.corofiordimonte.it/concerto/lenna-cultura
LOCATION:Lenna\, Italia
CATEGORIES:Concerti
END:VEVENT
END:VCALENDAR