BEGIN:VCALENDAR
VERSION:2.0
PRODID:-//coro fior di monte - ECPv4.3.2//NONSGML v1.0//EN
CALSCALE:GREGORIAN
METHOD:PUBLISH
X-WR-CALNAME:coro fior di monte
X-ORIGINAL-URL:https://www.corofiordimonte.it
X-WR-CALDESC:Events for coro fior di monte
BEGIN:VEVENT
DTSTART;TZID=UTC+0:20130119T204500
DTEND;TZID=UTC+0:20130119T223000
DTSTAMP:20260420T021624
CREATED:20121208T215301Z
LAST-MODIFIED:20121225T215914Z
UID:1001-1358628300-1358634600@www.corofiordimonte.it
SUMMARY:Olmo al Brembo
DESCRIPTION:alle ore 20:45 concerto nella Chiesa parrocchiale di Olmo al Brembo
URL:https://www.corofiordimonte.it/concerto/olmo-al-brembo
LOCATION:Olmo al Brembo
CATEGORIES:Concerti
END:VEVENT
END:VCALENDAR