BEGIN:VCALENDAR
VERSION:2.0
PRODID:-//coro fior di monte - ECPv4.3.2//NONSGML v1.0//EN
CALSCALE:GREGORIAN
METHOD:PUBLISH
X-WR-CALNAME:coro fior di monte
X-ORIGINAL-URL:https://www.corofiordimonte.it
X-WR-CALDESC:Events for coro fior di monte
BEGIN:VEVENT
DTSTART;TZID=UTC+0:20130104T203000
DTEND;TZID=UTC+0:20130104T230000
DTSTAMP:20260420T070430
CREATED:20121130T212527Z
LAST-MODIFIED:20121130T212527Z
UID:988-1357331400-1357340400@www.corofiordimonte.it
SUMMARY:Piazza di Branzi
DESCRIPTION:Piazza di Branzi
URL:https://www.corofiordimonte.it/concerto/piazza-di-branzi
LOCATION:Branzi
CATEGORIES:Concerti
END:VEVENT
END:VCALENDAR