BEGIN:VCALENDAR
VERSION:2.0
PRODID:-//coro fior di monte - ECPv4.3.2//NONSGML v1.0//EN
CALSCALE:GREGORIAN
METHOD:PUBLISH
X-WR-CALNAME:coro fior di monte
X-ORIGINAL-URL:https://www.corofiordimonte.it
X-WR-CALDESC:Events for coro fior di monte
BEGIN:VEVENT
DTSTART;TZID=UTC+0:20130711T205000
DTEND;TZID=UTC+0:20130711T220000
DTSTAMP:20260419T144659
CREATED:20130628T105448Z
LAST-MODIFIED:20130628T105448Z
UID:1130-1373575800-1373580000@www.corofiordimonte.it
SUMMARY:S. Messa a Lenna
DESCRIPTION:Al termine della S. Messa seguirà il concerto organizzato dal gruppo alpini di Lenna.
URL:https://www.corofiordimonte.it/concerto/s-messa-a-lenna-2
LOCATION:Lenna\, Bergamo\, Italia
END:VEVENT
END:VCALENDAR