BEGIN:VCALENDAR
VERSION:2.0
PRODID:-//coro fior di monte - ECPv4.3.2//NONSGML v1.0//EN
CALSCALE:GREGORIAN
METHOD:PUBLISH
X-WR-CALNAME:coro fior di monte
X-ORIGINAL-URL:https://www.corofiordimonte.it
X-WR-CALDESC:Events for coro fior di monte
BEGIN:VEVENT
DTSTART;TZID=UTC+0:20121123T200000
DTEND;TZID=UTC+0:20121130T210000
DTSTAMP:20260422T153455
CREATED:20121130T213028Z
LAST-MODIFIED:20121130T213028Z
UID:991-1353700800-1354309200@www.corofiordimonte.it
SUMMARY:Santa Messa ad Antea
DESCRIPTION:Santa Messa ad Antea - San Pellegrino Terme
URL:https://www.corofiordimonte.it/concerto/santa-messa-ad-antea
LOCATION:77\, San Pellegrino Terme
CATEGORIES:Concerti
END:VEVENT
END:VCALENDAR