BEGIN:VCALENDAR
VERSION:2.0
PRODID:-//coro fior di monte - ECPv4.3.2//NONSGML v1.0//EN
CALSCALE:GREGORIAN
METHOD:PUBLISH
X-WR-CALNAME:coro fior di monte
X-ORIGINAL-URL:https://www.corofiordimonte.it
X-WR-CALDESC:Events for coro fior di monte
BEGIN:VEVENT
DTSTART;VALUE=DATE:20121013
DTEND;VALUE=DATE:20121013
DTSTAMP:20260422T172304
CREATED:20120604T221452Z
LAST-MODIFIED:20120604T221747Z
UID:823-1350086400-1350172799@www.corofiordimonte.it
SUMMARY:Sant'Omobono Imagna
DESCRIPTION:Concerto a Sant'Omobono Imagna
URL:https://www.corofiordimonte.it/concerto/santomobono-imagna
LOCATION:S. OMOBONO IMAGNA\, Italia
CATEGORIES:Concerti
END:VEVENT
END:VCALENDAR