BEGIN:VCALENDAR
VERSION:2.0
PRODID:-//coro fior di monte - ECPv4.3.2//NONSGML v1.0//EN
CALSCALE:GREGORIAN
METHOD:PUBLISH
X-WR-CALNAME:coro fior di monte
X-ORIGINAL-URL:https://www.corofiordimonte.it
X-WR-CALDESC:Events for coro fior di monte
BEGIN:VEVENT
DTSTART;VALUE=DATE:20121006
DTEND;VALUE=DATE:20121006
DTSTAMP:20260422T190847
CREATED:20120604T221349Z
LAST-MODIFIED:20120604T221731Z
UID:821-1349481600-1349567999@www.corofiordimonte.it
SUMMARY:Concerto a Zogno
DESCRIPTION:Concerto a Zogno
URL:https://www.corofiordimonte.it/concerto/zogno
LOCATION:Zogno\, Italia
CATEGORIES:Concerti
END:VEVENT
END:VCALENDAR